BEGIN:VCALENDAR
VERSION:2.0
PRODID:Events Booking
BEGIN:VEVENT
UID:69e6818c90e23
SUMMARY:Anil Dagia's Business Mastery - Jan 2027
DESCRIPTION:
DTSTART:20270109T133000Z
DTEND:20270227T143000Z
DTSTAMP:20260420T194204Z
ORGANIZER;CN=Anil Dagia:MAILTO:info@anildagia.com
END:VEVENT
END:VCALENDAR