BEGIN:VCALENDAR
VERSION:2.0
PRODID:Events Booking
BEGIN:VEVENT
UID:69e67f5c6fbb7
SUMMARY:NLP Master Practitioner Certification Training Coaching Focus Apr 2
 027
DESCRIPTION:
DTSTART:20270329T153000Z
DTEND:20270507T182500Z
DTSTAMP:20260420T193244Z
ORGANIZER;CN=Anil Dagia:MAILTO:info@anildagia.com
END:VEVENT
END:VCALENDAR