BEGIN:VCALENDAR
VERSION:2.0
PRODID:Events Booking
BEGIN:VEVENT
UID:69e6b06dcf7f7
SUMMARY:Anil Dagia's Business Mastery - Oct 2028
DESCRIPTION:
DTSTART:20281007T133000Z
DTEND:20281125T143000Z
DTSTAMP:20250823T051413Z
ORGANIZER;CN=Anil Dagia:MAILTO:info@anildagia.com
END:VEVENT
END:VCALENDAR